BEGIN:VCALENDAR
VERSION:2.0
PRODID:-//Supply Nation - ECPv6.15.12.2//NONSGML v1.0//EN
CALSCALE:GREGORIAN
METHOD:PUBLISH
X-ORIGINAL-URL:https://supplynation.org.au
X-WR-CALDESC:Events for Supply Nation
REFRESH-INTERVAL;VALUE=DURATION:PT1H
X-Robots-Tag:noindex
X-PUBLISHED-TTL:PT1H
BEGIN:VTIMEZONE
TZID:Australia/Sydney
BEGIN:STANDARD
TZOFFSETFROM:+1100
TZOFFSETTO:+1000
TZNAME:AEST
DTSTART:20250405T160000
END:STANDARD
BEGIN:DAYLIGHT
TZOFFSETFROM:+1000
TZOFFSETTO:+1100
TZNAME:AEDT
DTSTART:20251004T160000
END:DAYLIGHT
BEGIN:STANDARD
TZOFFSETFROM:+1100
TZOFFSETTO:+1000
TZNAME:AEST
DTSTART:20260404T160000
END:STANDARD
BEGIN:DAYLIGHT
TZOFFSETFROM:+1000
TZOFFSETTO:+1100
TZNAME:AEDT
DTSTART:20261003T160000
END:DAYLIGHT
BEGIN:STANDARD
TZOFFSETFROM:+1100
TZOFFSETTO:+1000
TZNAME:AEST
DTSTART:20270403T160000
END:STANDARD
BEGIN:DAYLIGHT
TZOFFSETFROM:+1000
TZOFFSETTO:+1100
TZNAME:AEDT
DTSTART:20271002T160000
END:DAYLIGHT
END:VTIMEZONE
BEGIN:VTIMEZONE
TZID:Australia/Perth
BEGIN:STANDARD
TZOFFSETFROM:+0800
TZOFFSETTO:+0800
TZNAME:AWST
DTSTART:20250101T000000
END:STANDARD
END:VTIMEZONE
BEGIN:VEVENT
DTSTART;TZID=Australia/Sydney:20260324T083000
DTEND;TZID=Australia/Sydney:20260325T163000
DTSTAMP:20260422T100317
CREATED:20260303T005309Z
LAST-MODIFIED:20260303T235806Z
UID:23193-1774341000-1774456200@supplynation.org.au
SUMMARY:Minerals Week 2026
DESCRIPTION:Minerals Week is an opportunity to showcase mining as not just a driver of productivity at the industry level – it is a platform for delivering productivity throughout the economy.\nMinerals Week 2026 Re-energising the future will broaden understanding of Australian mining’s role and importance in addressing national and global challenges.
URL:https://supplynation.org.au/event/minerals-week-2026/
LOCATION:Hotel Realm\, 18 National Circuit\, Canberra\, 2600
CATEGORIES:Supply Nation is Presenting
END:VEVENT
BEGIN:VEVENT
DTSTART;VALUE=DATE:20260624
DTEND;VALUE=DATE:20260626
DTSTAMP:20260422T100317
CREATED:20260413T053940Z
LAST-MODIFIED:20260413T054008Z
UID:23305-1782259200-1782431999@supplynation.org.au
SUMMARY:Pilbara Summit 2026
DESCRIPTION:Pilbara Summit 2026 agenda is crafted to looking at the economic growth\, investment\, development and diverse and dynamic industry across the region. \nThe event provides the perfect opportunity for the Pilbara regions senior industry\, investors\, businesses\, community\, and government representatives to re-join and reconnect for this unique networking and shared learning opportunity.
URL:https://supplynation.org.au/event/pilbara-summit-2026/
LOCATION:Red Earth Arts Precinct\, 27 Welcome Road\, Karratha\, West Australia\, 6714
CATEGORIES:Supply Nation is Presenting
END:VEVENT
END:VCALENDAR