BEGIN:VCALENDAR
VERSION:2.0
PRODID:-//Supply Nation - ECPv6.15.12.2//NONSGML v1.0//EN
CALSCALE:GREGORIAN
METHOD:PUBLISH
X-WR-CALNAME:Supply Nation
X-ORIGINAL-URL:https://supplynation.org.au
X-WR-CALDESC:Events for Supply Nation
REFRESH-INTERVAL;VALUE=DURATION:PT1H
X-Robots-Tag:noindex
X-PUBLISHED-TTL:PT1H
BEGIN:VTIMEZONE
TZID:Australia/Sydney
BEGIN:STANDARD
TZOFFSETFROM:+1100
TZOFFSETTO:+1000
TZNAME:AEST
DTSTART:20240406T160000
END:STANDARD
BEGIN:DAYLIGHT
TZOFFSETFROM:+1000
TZOFFSETTO:+1100
TZNAME:AEDT
DTSTART:20241005T160000
END:DAYLIGHT
BEGIN:STANDARD
TZOFFSETFROM:+1100
TZOFFSETTO:+1000
TZNAME:AEST
DTSTART:20250405T160000
END:STANDARD
BEGIN:DAYLIGHT
TZOFFSETFROM:+1000
TZOFFSETTO:+1100
TZNAME:AEDT
DTSTART:20251004T160000
END:DAYLIGHT
BEGIN:STANDARD
TZOFFSETFROM:+1100
TZOFFSETTO:+1000
TZNAME:AEST
DTSTART:20260404T160000
END:STANDARD
BEGIN:DAYLIGHT
TZOFFSETFROM:+1000
TZOFFSETTO:+1100
TZNAME:AEDT
DTSTART:20261003T160000
END:DAYLIGHT
END:VTIMEZONE
BEGIN:VEVENT
DTSTART;TZID=Australia/Sydney:20250702T090000
DTEND;TZID=Australia/Sydney:20250703T173000
DTSTAMP:20260422T051727
CREATED:20250528T232852Z
LAST-MODIFIED:20250528T232852Z
UID:21470-1751446800-1751563800@supplynation.org.au
SUMMARY:Social Impact Summit
DESCRIPTION:Powering Social Impact through Procurement \nThis event explores how social procurement creates community impact by investing in Indigenous businesses\, social enterprises\, Australian Disability Enterprises\, women-owned businesses\, and local enterprises. It highlights the benefits of boosting economic growth\, creating jobs\, and fostering social inclusion. The event also features actionable strategies and real-world examples of social procurement driving positive change.
URL:https://supplynation.org.au/event/social-impact-summit/
LOCATION:Aerial UTS Function Centre\, Building 10\, Level 7/235 Jones St\, Ultimo\, Sydney\, NSW\, 2000
CATEGORIES:Supply Nation is Attending,Supply Nation is Presenting
END:VEVENT
BEGIN:VEVENT
DTSTART;TZID=Australia/Sydney:20250704T080000
DTEND;TZID=Australia/Sydney:20250704T170000
DTSTAMP:20260422T051727
CREATED:20250615T234449Z
LAST-MODIFIED:20250615T234449Z
UID:21571-1751616000-1751648400@supplynation.org.au
SUMMARY:McKinsey Australia Townhall - NAIDOC Week
DESCRIPTION:The Next Generation: Strength\, Vision & Legacy for NAIDOC\, where we will consider the bright future ahead.
URL:https://supplynation.org.au/event/mckinsey-australia-townhall-naidoc-week/
LOCATION:West Australia
CATEGORIES:Supply Nation is Presenting
END:VEVENT
END:VCALENDAR