BEGIN:VCALENDAR
VERSION:2.0
PRODID:-//Supply Nation - ECPv6.15.12.2//NONSGML v1.0//EN
CALSCALE:GREGORIAN
METHOD:PUBLISH
X-ORIGINAL-URL:https://supplynation.org.au
X-WR-CALDESC:Events for Supply Nation
REFRESH-INTERVAL;VALUE=DURATION:PT1H
X-Robots-Tag:noindex
X-PUBLISHED-TTL:PT1H
BEGIN:VTIMEZONE
TZID:Australia/Melbourne
BEGIN:STANDARD
TZOFFSETFROM:+1100
TZOFFSETTO:+1000
TZNAME:AEST
DTSTART:20250405T160000
END:STANDARD
BEGIN:DAYLIGHT
TZOFFSETFROM:+1000
TZOFFSETTO:+1100
TZNAME:AEDT
DTSTART:20251004T160000
END:DAYLIGHT
BEGIN:STANDARD
TZOFFSETFROM:+1100
TZOFFSETTO:+1000
TZNAME:AEST
DTSTART:20260404T160000
END:STANDARD
BEGIN:DAYLIGHT
TZOFFSETFROM:+1000
TZOFFSETTO:+1100
TZNAME:AEDT
DTSTART:20261003T160000
END:DAYLIGHT
BEGIN:STANDARD
TZOFFSETFROM:+1100
TZOFFSETTO:+1000
TZNAME:AEST
DTSTART:20270403T160000
END:STANDARD
BEGIN:DAYLIGHT
TZOFFSETFROM:+1000
TZOFFSETTO:+1100
TZNAME:AEDT
DTSTART:20271002T160000
END:DAYLIGHT
END:VTIMEZONE
BEGIN:VTIMEZONE
TZID:Australia/Perth
BEGIN:STANDARD
TZOFFSETFROM:+0800
TZOFFSETTO:+0800
TZNAME:AWST
DTSTART:20250101T000000
END:STANDARD
END:VTIMEZONE
BEGIN:VEVENT
DTSTART;TZID=Australia/Melbourne:20260219T090000
DTEND;TZID=Australia/Melbourne:20260219T123000
DTSTAMP:20260420T171532
CREATED:20251207T233729Z
LAST-MODIFIED:20260304T000131Z
UID:22590-1771491600-1771504200@supplynation.org.au
SUMMARY:Indigenous Business Trade Fair Melbourne
DESCRIPTION:Supply Nation is proud to host the Indigenous Business Trade Fair Melbourne (Naarm) on the lands of the Wurundjeri people. \nJoin us as we bring together Aboriginal and Torres Strait Islander businesses alongside motivated government and corporate buyers. 
URL:https://supplynation.org.au/event/indigenous-business-trade-fair-melbourne/
LOCATION:Melbourne Convention Centre\, 1 Convention Centre Place\, Melbourne\, VIC\, 3006
CATEGORIES:Hosted by Supply Nation
END:VEVENT
BEGIN:VEVENT
DTSTART;TZID=Australia/Perth:20260811T080000
DTEND;TZID=Australia/Perth:20260812T230000
DTSTAMP:20260420T171532
CREATED:20260226T221633Z
LAST-MODIFIED:20260303T235240Z
UID:23183-1786435200-1786575600@supplynation.org.au
SUMMARY:Supply Nation Connect 2026
DESCRIPTION:Supply Nation’s annual flagship event is heading west – to the lands of the Whadjuk people of the Noongar Nation in Boorloo (Perth). \nConnect 2026 will bring together Aboriginal and Torres Strait Islander businesses\, corporate organisations and government departments to foster opportunity and celebrate the sector’s success. \nAcross two inspiring days\, the program features the Knowledge Forum\, Indigenous Business Tradeshow and Gala Awards Dinner. \nThis year’s theme\, Journey\, reflects progress\, growth\, and resilience. It honours the enduring foundations of trade and entrepreneurship that sustain Indigenous economies and represents the legacy being built for future generations. \nTickets are on sale now. \nContact connect@supplynation.org.au for all event enquiries or sponsorships at sponsorship@supplynation.org.au.
URL:https://supplynation.org.au/event/supply-nation-connect-2026/
LOCATION:Perth Convention and Exhibition Centre\, 21 Mounts Bay Rd\, Perth\, WA\, 6000\, Australia
CATEGORIES:Hosted by Supply Nation
END:VEVENT
END:VCALENDAR