BEGIN:VCALENDAR
VERSION:2.0
PRODID:-//Supply Nation - ECPv6.15.12.2//NONSGML v1.0//EN
CALSCALE:GREGORIAN
METHOD:PUBLISH
X-WR-CALNAME:Supply Nation
X-ORIGINAL-URL:https://supplynation.org.au
X-WR-CALDESC:Events for Supply Nation
REFRESH-INTERVAL;VALUE=DURATION:PT1H
X-Robots-Tag:noindex
X-PUBLISHED-TTL:PT1H
BEGIN:VTIMEZONE
TZID:Australia/Sydney
BEGIN:STANDARD
TZOFFSETFROM:+1100
TZOFFSETTO:+1000
TZNAME:AEST
DTSTART:20240406T160000
END:STANDARD
BEGIN:DAYLIGHT
TZOFFSETFROM:+1000
TZOFFSETTO:+1100
TZNAME:AEDT
DTSTART:20241005T160000
END:DAYLIGHT
BEGIN:STANDARD
TZOFFSETFROM:+1100
TZOFFSETTO:+1000
TZNAME:AEST
DTSTART:20250405T160000
END:STANDARD
BEGIN:DAYLIGHT
TZOFFSETFROM:+1000
TZOFFSETTO:+1100
TZNAME:AEDT
DTSTART:20251004T160000
END:DAYLIGHT
BEGIN:STANDARD
TZOFFSETFROM:+1100
TZOFFSETTO:+1000
TZNAME:AEST
DTSTART:20260404T160000
END:STANDARD
BEGIN:DAYLIGHT
TZOFFSETFROM:+1000
TZOFFSETTO:+1100
TZNAME:AEDT
DTSTART:20261003T160000
END:DAYLIGHT
END:VTIMEZONE
BEGIN:VEVENT
DTSTART;TZID=Australia/Sydney:20250515T140000
DTEND;TZID=Australia/Sydney:20250515T160000
DTSTAMP:20260420T010710
CREATED:20250417T071514Z
LAST-MODIFIED:20250430T053141Z
UID:21311-1747317600-1747324800@supplynation.org.au
SUMMARY:Brisbane Supplier Expo
DESCRIPTION:This Supplier Expo is the first of its kind for WSP\, as part of our plan across capital cities and regional areas\, to connect with Indigenous suppliers and promote innovation through community growth. \nOur Brisbane event will provide an opportunity for connection and networking\, with WSP sharing the commitments made to diversifying our supplier base and the criteria for eligible suppliers. \nWe will have QLD project leads from across the various areas of our business at the event to connect with\, who are keen to hear about your business and where the opportunities are to work together.
URL:https://supplynation.org.au/event/brisbane-supplier-expo/
LOCATION:Jagera Community Hall\, 121 Cordelia Street\, South Brisbane\, QLD\, 4101
CATEGORIES:Hosted by Supply Nation,Supply Nation is Attending
END:VEVENT
END:VCALENDAR