BEGIN:VCALENDAR
VERSION:2.0
PRODID:-//Supply Nation - ECPv6.15.12.2//NONSGML v1.0//EN
CALSCALE:GREGORIAN
METHOD:PUBLISH
X-WR-CALNAME:Supply Nation
X-ORIGINAL-URL:https://supplynation.org.au
X-WR-CALDESC:Events for Supply Nation
REFRESH-INTERVAL;VALUE=DURATION:PT1H
X-Robots-Tag:noindex
X-PUBLISHED-TTL:PT1H
BEGIN:VTIMEZONE
TZID:Australia/Sydney
BEGIN:STANDARD
TZOFFSETFROM:+1100
TZOFFSETTO:+1000
TZNAME:AEST
DTSTART:20240406T160000
END:STANDARD
BEGIN:DAYLIGHT
TZOFFSETFROM:+1000
TZOFFSETTO:+1100
TZNAME:AEDT
DTSTART:20241005T160000
END:DAYLIGHT
BEGIN:STANDARD
TZOFFSETFROM:+1100
TZOFFSETTO:+1000
TZNAME:AEST
DTSTART:20250405T160000
END:STANDARD
BEGIN:DAYLIGHT
TZOFFSETFROM:+1000
TZOFFSETTO:+1100
TZNAME:AEDT
DTSTART:20251004T160000
END:DAYLIGHT
BEGIN:STANDARD
TZOFFSETFROM:+1100
TZOFFSETTO:+1000
TZNAME:AEST
DTSTART:20260404T160000
END:STANDARD
BEGIN:DAYLIGHT
TZOFFSETFROM:+1000
TZOFFSETTO:+1100
TZNAME:AEDT
DTSTART:20261003T160000
END:DAYLIGHT
END:VTIMEZONE
BEGIN:VEVENT
DTSTART;TZID=Australia/Sydney:20250212T090000
DTEND;TZID=Australia/Sydney:20250212T123000
DTSTAMP:20260420T053839
CREATED:20241210T070953Z
LAST-MODIFIED:20241217T051745Z
UID:19547-1739350800-1739363400@supplynation.org.au
SUMMARY:Indigenous Business Trade Fair Canberra
DESCRIPTION:Supply Nation is proud to host the Indigenous Business Trade Fair on the lands of the Ngunnawal people in Canberra. \nJoin us as we bring together Aboriginal and Torres Strait Islander businesses alongside motivated government and corporate buyers.
URL:https://supplynation.org.au/event/indigenous-business-trade-fair-canberra/
LOCATION:QT Canberra\, 1 London Cct\, Canberra\, ACT\, 2601\, Australia
CATEGORIES:Hosted by Supply Nation,Supply Nation is Featured
END:VEVENT
END:VCALENDAR