BEGIN:VCALENDAR
VERSION:2.0
PRODID:-//Supply Nation - ECPv6.15.12.2//NONSGML v1.0//EN
CALSCALE:GREGORIAN
METHOD:PUBLISH
X-WR-CALNAME:Supply Nation
X-ORIGINAL-URL:https://supplynation.org.au
X-WR-CALDESC:Events for Supply Nation
REFRESH-INTERVAL;VALUE=DURATION:PT1H
X-Robots-Tag:noindex
X-PUBLISHED-TTL:PT1H
BEGIN:VTIMEZONE
TZID:Australia/Sydney
BEGIN:STANDARD
TZOFFSETFROM:+1100
TZOFFSETTO:+1000
TZNAME:AEST
DTSTART:20230401T160000
END:STANDARD
BEGIN:DAYLIGHT
TZOFFSETFROM:+1000
TZOFFSETTO:+1100
TZNAME:AEDT
DTSTART:20230930T160000
END:DAYLIGHT
BEGIN:STANDARD
TZOFFSETFROM:+1100
TZOFFSETTO:+1000
TZNAME:AEST
DTSTART:20240406T160000
END:STANDARD
BEGIN:DAYLIGHT
TZOFFSETFROM:+1000
TZOFFSETTO:+1100
TZNAME:AEDT
DTSTART:20241005T160000
END:DAYLIGHT
BEGIN:STANDARD
TZOFFSETFROM:+1100
TZOFFSETTO:+1000
TZNAME:AEST
DTSTART:20250405T160000
END:STANDARD
BEGIN:DAYLIGHT
TZOFFSETFROM:+1000
TZOFFSETTO:+1100
TZNAME:AEDT
DTSTART:20251004T160000
END:DAYLIGHT
END:VTIMEZONE
BEGIN:VEVENT
DTSTART;TZID=Australia/Sydney:20241127T090000
DTEND;TZID=Australia/Sydney:20241127T123000
DTSTAMP:20260420T102531
CREATED:20241008T002910Z
LAST-MODIFIED:20241011T054625Z
UID:19769-1732698000-1732710600@supplynation.org.au
SUMMARY:Indigenous Business Trade Fair – Perth
DESCRIPTION:Supply Nation is proud to support the Western Australian business sector by hosting the Indigenous Business Trade Fair in Boorloo (Perth) on the lands of the Whadjuk Nyoongar people. \nJoin us on Wednesday 27 November 2024 as we bring together Aboriginal and Torres Strait Islander businesses alongside motivated government and corporate buyers.
URL:https://supplynation.org.au/event/indigenous-business-trade-fair-perth/
LOCATION:Perth Convention and Exhibition Centre\, 21 Mounts Bay Rd\, Perth\, WA\, 6000\, Australia
CATEGORIES:Hosted by Supply Nation,Supply Nation is Featured
END:VEVENT
END:VCALENDAR